BEGIN:VCALENDAR
VERSION:2.0
PRODID:-//Sabre//Sabre VObject 4.5.5//EN
CALSCALE:GREGORIAN
BEGIN:VEVENT
UID:sabre-vobject-2c635448-fcfe-4933-a109-99a0d4e2980a
DTSTAMP:20260420T034320Z
SUMMARY:Oster-Gottesdienst mit Abendmahl\, Pastor Daniel Kuhl
DTSTART;TZID=Europe/Berlin:20260405T060000
ORGANIZER;CN=Ev.-Luth. Anker-Gottes-Kirchengemeinde Laboe:MAILTO:info@kirch
 e-laboe.de
LOCATION:Anker Gottes-Kirche\, Brodersdorfer Weg 1\, Laboe
GEO:54.402693;10.226708
BEGIN:VALARM
TRIGGER;VALUE=DURATION:P1D
ACTION:DISPLAY
DESCRIPTION:Oster-Gottesdienst mit Abendmahl\, Pastor Daniel Kuhl
END:VALARM
END:VEVENT
END:VCALENDAR
