BEGIN:VCALENDAR
VERSION:2.0
PRODID:-//Sabre//Sabre VObject 4.5.5//EN
CALSCALE:GREGORIAN
BEGIN:VEVENT
UID:sabre-vobject-5571fa3f-6698-4300-8c78-99b540187bfa
DTSTAMP:20260420T033641Z
SUMMARY:Ostergottesdienst mit Abendmahl\, P. Suckow
DTSTART;TZID=Europe/Berlin:20260405T110000
ORGANIZER;CN=Ev.-Luth. Kirchengemeinde Lütjenburg:MAILTO:mail@kirchengemei
 nde-luetjenburg.de
LOCATION:St.-Jürgen-Kirche Hohwacht\, Am Buchholz 6\, Hohwacht (Ostsee)
GEO:54.32088;10.66528
BEGIN:VALARM
TRIGGER;VALUE=DURATION:P1D
ACTION:DISPLAY
DESCRIPTION:Ostergottesdienst mit Abendmahl\, P. Suckow
END:VALARM
END:VEVENT
END:VCALENDAR
