BEGIN:VCALENDAR
VERSION:2.0
PRODID:-//Sabre//Sabre VObject 4.5.5//EN
CALSCALE:GREGORIAN
BEGIN:VEVENT
UID:sabre-vobject-64ab0f5e-2154-45e9-9cf9-6ce21ada3dad
DTSTAMP:20260420T034233Z
SUMMARY:Ostergottesdienst mit Abendmahl\,  Pn Haustein
DTSTART;TZID=Europe/Berlin:20260405T093000
ORGANIZER;CN=Ev.-Luth. Kirchengemeinde Lütjenburg:MAILTO:mail@kirchengemei
 nde-luetjenburg.de
LOCATION:St. Michaelis\, Wehdenstraße 14\, Lütjenburg
GEO:54.292638;10.59211
BEGIN:VALARM
TRIGGER;VALUE=DURATION:P1D
ACTION:DISPLAY
DESCRIPTION:Ostergottesdienst mit Abendmahl\,  Pn Haustein
END:VALARM
END:VEVENT
END:VCALENDAR
