BEGIN:VCALENDAR
VERSION:2.0
PRODID:-//Sabre//Sabre VObject 4.5.5//EN
CALSCALE:GREGORIAN
BEGIN:VEVENT
UID:sabre-vobject-8bdde7cc-f791-483d-bfca-95461320fda0
DTSTAMP:20260420T034125Z
SUMMARY:Ostergottesdienst mit Ostereiersuche im Feuerwehrhaus Nüchel\, Pas
 torin Haustein
DTSTART;TZID=Europe/Berlin:20260406T110000
ORGANIZER;CN=Ev.-Luth. Kirchengemeinde Kirchnüchel:MAILTO:ev.kirche-bleken
 dorf@t-online.de
LOCATION:Marienkirche\, Kirchnüchel 1\, Kirchnüchel
GEO:54.204625;10.6773
BEGIN:VALARM
TRIGGER;VALUE=DURATION:P1D
ACTION:DISPLAY
DESCRIPTION:Ostergottesdienst mit Ostereiersuche im Feuerwehrhaus Nüchel\,
  Pastorin Haustein
END:VALARM
END:VEVENT
END:VCALENDAR
