BEGIN:VCALENDAR
VERSION:2.0
PRODID:-//Sabre//Sabre VObject 4.5.5//EN
CALSCALE:GREGORIAN
BEGIN:VEVENT
UID:sabre-vobject-c4d1d8c9-5e1e-4dd5-8b91-77af3d470067
DTSTAMP:20260420T033410Z
SUMMARY:Ostern op Platt"\, Pastor i.R. Sabrowski\,
DTSTART;TZID=Europe/Berlin:20260406T100000
ORGANIZER;CN=Ev.-luth. Kirchengemeinde Wankendorf:MAILTO:info@kirchengemein
 de-wankendorf.de
LOCATION:Kirche Wankendorf\, Kirchtor 38\, Wankendorf
GEO:54.118092;10.209095
BEGIN:VALARM
TRIGGER;VALUE=DURATION:P1D
ACTION:DISPLAY
DESCRIPTION:Ostern op Platt"\, Pastor i.R. Sabrowski\,
END:VALARM
END:VEVENT
END:VCALENDAR
