BEGIN:VCALENDAR
VERSION:2.0
PRODID:-//Sabre//Sabre VObject 4.5.5//EN
CALSCALE:GREGORIAN
BEGIN:VEVENT
UID:sabre-vobject-7cc599e6-d78b-44be-9ab2-efb3630a748d
DTSTAMP:20260420T035150Z
SUMMARY:Ostersonntag: Jesus lebt! Festgottesdienst mit Osterkreuz und Pasto
 rin Ulrike Jenett (Musik: Christoph Andersen)
DTSTART;TZID=Europe/Berlin:20260405T100000
ORGANIZER;CN=Ev.-luth. Kirchengemeinde Wankendorf:MAILTO:info@kirchengemein
 de-wankendorf.de
LOCATION:Kirche Wankendorf\, Kirchtor 38\, Wankendorf
GEO:54.118092;10.209095
BEGIN:VALARM
TRIGGER;VALUE=DURATION:P1D
ACTION:DISPLAY
DESCRIPTION:Ostersonntag: Jesus lebt! Festgottesdienst mit Osterkreuz und P
 astorin Ulrike Jenett (Musik: Christoph Andersen)
END:VALARM
END:VEVENT
END:VCALENDAR
