BEGIN:VCALENDAR
VERSION:2.0
PRODID:-//Sabre//Sabre VObject 4.5.5//EN
CALSCALE:GREGORIAN
BEGIN:VEVENT
UID:sabre-vobject-8d806323-a8e6-4900-a116-2deb29d15615
DTSTAMP:20260420T034707Z
SUMMARY:Pfarrsprengel-Gottesdienst mit Kirchenkaffee\, Pn Stockhausen
DTSTART;TZID=Europe/Berlin:20260419T100000
ORGANIZER;CN=Ev.-Luth. Philippus-Kirchengemeinde Klausdorf:MAILTO:kirchenbu
 ero@kirchengemeinde-klausdorf.de
LOCATION:Philippus Kirche\, Dorfplatz 8\, Schwentinental
GEO:54.309745;10.214354
BEGIN:VALARM
TRIGGER;VALUE=DURATION:P1D
ACTION:DISPLAY
DESCRIPTION:Pfarrsprengel-Gottesdienst mit Kirchenkaffee\, Pn Stockhausen
END:VALARM
END:VEVENT
END:VCALENDAR
