BEGIN:VCALENDAR
VERSION:2.0
PRODID:-//Sabre//Sabre VObject 4.5.5//EN
CALSCALE:GREGORIAN
BEGIN:VEVENT
UID:sabre-vobject-0aba96fb-35ff-4277-a005-a3dc5f44a270
DTSTAMP:20260420T034529Z
SUMMARY:Predigtgottesdienst mit Abendmahl\, Propst Erich Faehling
DTSTART;TZID=Europe/Berlin:20260403T110000
ORGANIZER;CN=Ev.-Luth. Kirchengemeinde Preetz:MAILTO:kirchenbuero@kirche-in
 -preetz.de
LOCATION:Stadtkirche\, Kirchplatz 8\, Preetz
GEO:54.23195;10.28089
BEGIN:VALARM
TRIGGER;VALUE=DURATION:P1D
ACTION:DISPLAY
DESCRIPTION:Predigtgottesdienst mit Abendmahl\, Propst Erich Faehling
END:VALARM
END:VEVENT
END:VCALENDAR
