BEGIN:VCALENDAR
VERSION:2.0
PRODID:-//Sabre//Sabre VObject 4.5.5//EN
CALSCALE:GREGORIAN
BEGIN:VEVENT
UID:sabre-vobject-32a5824c-eb0a-4f30-acae-9dec479282d6
DTSTAMP:20260420T033935Z
SUMMARY:Probstei-Familienosterfeuer-Gottesdienst\, Pastor Müller\, Gemeind
 ehaus
DTSTART;TZID=Europe/Berlin:20260406T110000
ORGANIZER;CN=Ev.-Luth. St. Katharinen-Kirchengemeinde zu Probsteierhagen:MA
 ILTO:buero@kirche-probsteierhagen.de
LOCATION:St. Katharinen-Kirche Probsteierhagen\, Alte Dorfstraße 49\, Prob
 steierhagen
GEO:54.363179;10.287427
BEGIN:VALARM
TRIGGER;VALUE=DURATION:P1D
ACTION:DISPLAY
DESCRIPTION:Probstei-Familienosterfeuer-Gottesdienst\, Pastor Müller\, Gem
 eindehaus
END:VALARM
END:VEVENT
END:VCALENDAR
