BEGIN:VCALENDAR
VERSION:2.0
PRODID:-//Sabre//Sabre VObject 4.5.5//EN
CALSCALE:GREGORIAN
BEGIN:VEVENT
UID:sabre-vobject-b527c795-d017-47f3-9e8d-2cba8ab6ab7d
DTSTAMP:20260420T034054Z
SUMMARY:Regionalgottesdienst in Hohwacht mit Pastorin Kathrin Schleupner
DTSTART;TZID=Europe/Berlin:20260412T110000
ORGANIZER;CN=Ev.-Luth. St. Johannes-Kirchengemeinde Giekau:MAILTO:kirche-gi
 ekau@kirche-ps.de
LOCATION:St.-Jürgen-Kirche Hohwacht\, Am Buchholz 6\, Hohwacht (Ostsee)
DESCRIPTION:\nRegionalgottesdienst in Hohwacht mit Pastorin Kathrin Schleup
 ner
BEGIN:VALARM
TRIGGER;VALUE=DURATION:P1D
ACTION:DISPLAY
DESCRIPTION:Regionalgottesdienst in Hohwacht mit Pastorin Kathrin Schleupne
 r
END:VALARM
END:VEVENT
END:VCALENDAR
