BEGIN:VCALENDAR
VERSION:2.0
PRODID:-//Sabre//Sabre VObject 4.5.5//EN
CALSCALE:GREGORIAN
BEGIN:VEVENT
UID:sabre-vobject-1f074556-e238-490b-ae49-dcca48062d26
DTSTAMP:20260420T033915Z
SUMMARY:Regionalgottesdienst in Lütjenburg mit Pastorin Kathrin Schleupner
DTSTART;TZID=Europe/Berlin:20260412T093000
ORGANIZER;CN=Ev.-Luth. St. Johannes-Kirchengemeinde Giekau:MAILTO:kirche-gi
 ekau@kirche-ps.de
LOCATION:Ev.-Luth. Kirchengemeinde Lütjenburg\, Wehdenstraße 14\, Lütjen
 burg
GEO:54.292638;10.59211
DESCRIPTION:\nRegionalgottesdienst in Lütjenburg mit Pastorin Kathrin Schl
 eupner
BEGIN:VALARM
TRIGGER;VALUE=DURATION:P1D
ACTION:DISPLAY
DESCRIPTION:Regionalgottesdienst in Lütjenburg mit Pastorin Kathrin Schleu
 pner
END:VALARM
END:VEVENT
END:VCALENDAR
