BEGIN:VCALENDAR
VERSION:2.0
PRODID:-//Sabre//Sabre VObject 4.5.5//EN
CALSCALE:GREGORIAN
BEGIN:VEVENT
UID:sabre-vobject-a9461add-956e-4cb9-aecd-94b7ddd88933
DTSTAMP:20260420T034814Z
SUMMARY:Seniorenbläserkreis Für: alle Bläser:innen im Ruhestand oder mit
  Freizeit an Werktagen
DTSTART;TZID=Europe/Berlin:20260402T100000
DTEND;TZID=Europe/Berlin:20260402T200000
ORGANIZER;CN=Kirchenmusik der Nordkirche:MAILTO:no-reply@boesdorf-holstein.
 de
LOCATION:Evangelische Jugend-\, Koppelsberg 12\, Plön
GEO:54.15093;10.38601
DESCRIPTION:\nInfos und Anmeldung: Posaunenwerk Hamburg – Schleswig-Holst
 ein www.posaunenwerk-hhsh.de/veranstaltungen
BEGIN:VALARM
TRIGGER;VALUE=DURATION:P1D
ACTION:DISPLAY
DESCRIPTION:Seniorenbläserkreis Für: alle Bläser:innen im Ruhestand oder
  mit Freizeit an Werktagen
END:VALARM
END:VEVENT
END:VCALENDAR
