BEGIN:VCALENDAR
VERSION:2.0
PRODID:-//Sabre//Sabre VObject 4.5.5//EN
CALSCALE:GREGORIAN
BEGIN:VEVENT
UID:sabre-vobject-448613db-220e-47e9-bc2d-0d10381aa698
DTSTAMP:20260420T034855Z
SUMMARY:Servatius-Kirche Selent\, Osternachtgottesdienst mit Chormusik und 
 Osterfrühstück\, Prädikantin Sylvia Bernien und Team
DTSTART;TZID=Europe/Berlin:20260405T060000
ORGANIZER;CN=Ev.-Luth. Kirchengemeinde Selent:MAILTO:kg-selent@gmx.de
LOCATION:St. Servatius\, Dorfplatz 5\, Selent
GEO:54.289771;10.428322
BEGIN:VALARM
TRIGGER;VALUE=DURATION:P1D
ACTION:DISPLAY
DESCRIPTION:Servatius-Kirche Selent\, Osternachtgottesdienst mit Chormusik 
 und Osterfrühstück\, Prädikantin Sylvia Bernien und Team
END:VALARM
END:VEVENT
END:VCALENDAR
