BEGIN:VCALENDAR
VERSION:2.0
PRODID:-//Sabre//Sabre VObject 4.5.5//EN
CALSCALE:GREGORIAN
BEGIN:VEVENT
UID:sabre-vobject-98dec395-a5f3-4db6-9979-ef17cbc8e4af
DTSTAMP:20260420T033547Z
SUMMARY:später Gottesdienst mit Taufe\, Pastor Müller
DTSTART;TZID=Europe/Berlin:20260426T163000
ORGANIZER;CN=Ev.-Luth. St. Katharinen-Kirchengemeinde zu Probsteierhagen:MA
 ILTO:buero@kirche-probsteierhagen.de
LOCATION:St. Katharinen-Kirche Probsteierhagen\, Alte Dorfstraße 49\, Prob
 steierhagen
GEO:54.363179;10.287427
BEGIN:VALARM
TRIGGER;VALUE=DURATION:P1D
ACTION:DISPLAY
DESCRIPTION:später Gottesdienst mit Taufe\, Pastor Müller
END:VALARM
END:VEVENT
END:VCALENDAR
