BEGIN:VCALENDAR
VERSION:2.0
PRODID:-//Sabre//Sabre VObject 4.5.5//EN
CALSCALE:GREGORIAN
BEGIN:VEVENT
UID:sabre-vobject-af99970b-0828-4d10-9bf9-b343e097e702
DTSTAMP:20260420T034528Z
SUMMARY:St.Ansgar-Kapelle\, Wildenhorst  Taizé-GD mit Kantorei aus Klausdo
 rf P.Pohlmann +Team
DTSTART;TZID=Europe/Berlin:20260402T190000
ORGANIZER;CN=Ev.-Luth. St. Martin-Kirchengemeinde Raisdorf:MAILTO:info@kirc
 heraisdorf.de
LOCATION:St. Martins-Kirche Raisdorf\, St. Martins-Weg 2\, Schwentinental
GEO:54.277185;10.248392
BEGIN:VALARM
TRIGGER;VALUE=DURATION:P1D
ACTION:DISPLAY
DESCRIPTION:St.Ansgar-Kapelle\, Wildenhorst  Taizé-GD mit Kantorei aus Kla
 usdorf P.Pohlmann +Team
END:VALARM
END:VEVENT
END:VCALENDAR
