BEGIN:VCALENDAR
VERSION:2.0
PRODID:-//Sabre//Sabre VObject 4.5.5//EN
CALSCALE:GREGORIAN
BEGIN:VEVENT
UID:sabre-vobject-36d18d37-d966-4630-86dc-d82d47c156ae
DTSTAMP:20260420T033116Z
SUMMARY:Taizé-Andacht\, Team Taizé
DTSTART;TZID=Europe/Berlin:20260424T180000
ORGANIZER;CN=Ev.-Luth. Anker-Gottes-Kirchengemeinde Laboe:MAILTO:info@kirch
 e-laboe.de
LOCATION:Anker Gottes-Kirche\, Brodersdorfer Weg 1\, Laboe
GEO:54.402693;10.226708
BEGIN:VALARM
TRIGGER;VALUE=DURATION:P1D
ACTION:DISPLAY
DESCRIPTION:Taizé-Andacht\, Team Taizé
END:VALARM
END:VEVENT
END:VCALENDAR
