BEGIN:VCALENDAR
VERSION:2.0
PRODID:-//Sabre//Sabre VObject 4.5.5//EN
CALSCALE:GREGORIAN
BEGIN:VEVENT
UID:sabre-vobject-2f3bd850-c8c4-43e6-9ca6-94ffdd6221ae
DTSTAMP:20260420T034119Z
SUMMARY:Tauferinnerungsgottesdienst mit Taufe in Giekau mit Pastor Günther
  Suckow
DTSTART;TZID=Europe/Berlin:20260406T093000
ORGANIZER;CN=Ev.-Luth. St. Johannes-Kirchengemeinde Giekau:MAILTO:kirche-gi
 ekau@kirche-ps.de
LOCATION:St. Johannes-Kirche Giekau\, Seestr. 2\, Giekau
GEO:54.317927;10.50624
DESCRIPTION:\nTauferinnerungsgottesdienst mit Taufe in Giekau mit Pastor G
 ünther Suckow
BEGIN:VALARM
TRIGGER;VALUE=DURATION:P1D
ACTION:DISPLAY
DESCRIPTION:Tauferinnerungsgottesdienst mit Taufe in Giekau mit Pastor Gün
 ther Suckow
END:VALARM
END:VEVENT
END:VCALENDAR
