BEGIN:VCALENDAR
VERSION:2.0
PRODID:-//Sabre//Sabre VObject 4.5.5//EN
CALSCALE:GREGORIAN
BEGIN:VEVENT
UID:sabre-vobject-1417fc18-29f0-4904-94a0-cf7a547f6c5b
DTSTAMP:20260420T033457Z
SUMMARY:Tauferinnerungsgottesdienst\, Pn Lilienthal
DTSTART;TZID=Europe/Berlin:20260412T093000
ORGANIZER;CN=Ev.-Luth. Kirchengemeinde Preetz:MAILTO:kirchenbuero@kirche-in
 -preetz.de
LOCATION:Stadtkirche\, Kirchplatz 8\, Preetz
GEO:54.23195;10.28089
BEGIN:VALARM
TRIGGER;VALUE=DURATION:P1D
ACTION:DISPLAY
DESCRIPTION:Tauferinnerungsgottesdienst\, Pn Lilienthal
END:VALARM
END:VEVENT
END:VCALENDAR
