BEGIN:VCALENDAR
VERSION:2.0
PRODID:-//Sabre//Sabre VObject 4.5.5//EN
CALSCALE:GREGORIAN
BEGIN:VEVENT
UID:sabre-vobject-4c6da8e8-1946-490c-bdd6-19faaa48a590
DTSTAMP:20260420T034701Z
SUMMARY:Vorstellungsgottesdienst der Konfirmand*innen\, Pastorin Haustein
DTSTART;TZID=Europe/Berlin:20260419T110000
ORGANIZER;CN=Ev.-Luth. Kirchengemeinde Blekendorf:MAILTO:ev.kirche-blekendo
 rf@t-online.de
LOCATION:St. Claren\, Lange Straße 38\, Blekendorf
GEO:54.275985;10.650618
BEGIN:VALARM
TRIGGER;VALUE=DURATION:P1D
ACTION:DISPLAY
DESCRIPTION:Vorstellungsgottesdienst der Konfirmand*innen\, Pastorin Hauste
 in
END:VALARM
END:VEVENT
END:VCALENDAR
