BEGIN:VCALENDAR
VERSION:2.0
PRODID:-//Sabre//Sabre VObject 4.5.5//EN
CALSCALE:GREGORIAN
BEGIN:VEVENT
UID:sabre-vobject-177be82d-e1f0-4585-bcf9-0fca3296b2ce
DTSTAMP:20260420T034702Z
SUMMARY:Vorstellungsgottesdienst der Konfirmand*innen\, Pastorin Haustein
DTSTART;TZID=Europe/Berlin:20260426T110000
ORGANIZER;CN=Ev.-Luth. Kirchengemeinde Kirchnüchel:MAILTO:ev.kirche-bleken
 dorf@t-online.de
LOCATION:Marienkirche\, Kirchnüchel 1\, Kirchnüchel
GEO:54.204625;10.6773
BEGIN:VALARM
TRIGGER;VALUE=DURATION:P1D
ACTION:DISPLAY
DESCRIPTION:Vorstellungsgottesdienst der Konfirmand*innen\, Pastorin Hauste
 in
END:VALARM
END:VEVENT
END:VCALENDAR
