BEGIN:VCALENDAR
VERSION:2.0
PRODID:-//Sabre//Sabre VObject 4.5.5//EN
CALSCALE:GREGORIAN
BEGIN:VEVENT
UID:sabre-vobject-9bbb3fa5-e441-43cc-b83f-52c1ab57f2f7
DTSTAMP:20260420T034650Z
SUMMARY:Vorstellungsgottesdienst der Konfis\, mit Pastorin Rahnenführer
DTSTART;TZID=Europe/Berlin:20260419T093000
ORGANIZER;CN=Ev.-Luth. Friedenskirchengemeinde Plön:MAILTO:kirche-ploen@ki
 rche-ps.de
LOCATION:Kirche Lebrade\, Pastertwiet 2\, Lebrade
GEO:54.216783;10.422521
BEGIN:VALARM
TRIGGER;VALUE=DURATION:P1D
ACTION:DISPLAY
DESCRIPTION:Vorstellungsgottesdienst der Konfis\, mit Pastorin Rahnenführe
 r
END:VALARM
END:VEVENT
END:VCALENDAR
