BEGIN:VCALENDAR
VERSION:2.0
PRODID:-//Sabre//Sabre VObject 4.5.5//EN
CALSCALE:GREGORIAN
BEGIN:VEVENT
UID:sabre-vobject-58f73809-bf13-43b4-a498-88ee53f66880
DTSTAMP:20260420T034233Z
SUMMARY:Wir feiern Jesu Einsetzung des Abendmahls mit warmem Essen
DTSTART;TZID=Europe/Berlin:20260402T193000
ORGANIZER;CN=Ev.-luth. Kirchengemeinde Wankendorf:MAILTO:info@kirchengemein
 de-wankendorf.de
LOCATION:Hotel & Restaurant Schlüter\, Dorfstr. 14\, Wankendorf
DESCRIPTION:\n(kostenlos\, aber Anmeldung nötig bis 27.3.: 04326-1274)
BEGIN:VALARM
TRIGGER;VALUE=DURATION:P1D
ACTION:DISPLAY
DESCRIPTION:Wir feiern Jesu Einsetzung des Abendmahls mit warmem Essen
END:VALARM
END:VEVENT
END:VCALENDAR
