BEGIN:VCALENDAR
VERSION:2.0
PRODID:-//Sabre//Sabre VObject 4.5.5//EN
CALSCALE:GREGORIAN
BEGIN:VEVENT
UID:sabre-vobject-58ecb2c9-27f6-48ef-8275-87f45806fb3c
DTSTAMP:20260420T033732Z
SUMMARY:Wochenschlussandacht\, Taizé-Gruppe
DTSTART;TZID=Europe/Berlin:20260411T180000
ORGANIZER;CN=Ev.-Luth. Kirchengemeinde Preetz:MAILTO:kirchenbuero@kirche-in
 -preetz.de
LOCATION:Kleine Stadtkirche\, Kirchenstr. 52\, Preetz
GEO:54.231914;10.28051
BEGIN:VALARM
TRIGGER;VALUE=DURATION:P1D
ACTION:DISPLAY
DESCRIPTION:Wochenschlussandacht\, Taizé-Gruppe
END:VALARM
END:VEVENT
END:VCALENDAR
