BEGIN:VCALENDAR
VERSION:2.0
PRODID:-//Sabre//Sabre VObject 4.5.5//EN
CALSCALE:GREGORIAN
BEGIN:VEVENT
UID:sabre-vobject-9326a435-69b9-4b5f-8abb-206dbfb056ce
DTSTAMP:20260420T033641Z
SUMMARY:Wochenschlussandacht\, Taizé-Gruppe
DTSTART;TZID=Europe/Berlin:20260425T180000
ORGANIZER;CN=Ev.-Luth. Kirchengemeinde Preetz:MAILTO:kirchenbuero@kirche-in
 -preetz.de
LOCATION:Kleine Stadtkirche\, Kirchenstr. 52\, Preetz
GEO:54.231914;10.28051
BEGIN:VALARM
TRIGGER;VALUE=DURATION:P1D
ACTION:DISPLAY
DESCRIPTION:Wochenschlussandacht\, Taizé-Gruppe
END:VALARM
END:VEVENT
END:VCALENDAR
